BEGIN:VCALENDAR
PRODID:-//AT Content Types//AT Event//EN
VERSION:2.0
METHOD:PUBLISH
BEGIN:VEVENT
DTSTAMP:20260422T034635Z
CREATED:20220721T124221Z
UID:ATEvent-1c9ff5e1eb14487d80b311353e9e2093
LAST-MODIFIED:20220721T124222Z
SUMMARY:ESP/CMP-NUM I in Lab
DTSTART:20220921T070000Z
DTEND:20220921T083000Z
LOCATION:Lecture Room H
URL:https://diploma-clear.ictp.it/courses/weekly-schedule/lecture-room-h/lecture.2022-07-21.3419428847
CLASS:PUBLIC
END:VEVENT
END:VCALENDAR
