BEGIN:VCALENDAR
PRODID:-//AT Content Types//AT Event//EN
VERSION:2.0
METHOD:PUBLISH
BEGIN:VEVENT
DTSTAMP:20260423T065612Z
CREATED:20220401T151024Z
UID:ATEvent-6f4c66d5f3524c2abf18659ff6f44b64
LAST-MODIFIED:20220401T151024Z
SUMMARY:ESP-OCM
DTSTART:20220422T070000Z
DTEND:20220422T083000Z
LOCATION:Lecture Room H
CONTACT:L. Foundotos
URL:https://diploma-clear.ictp.it/courses/weekly-schedule/lecture-room-h/lecture.2022-04-01.8245824750
CLASS:PUBLIC
END:VEVENT
END:VCALENDAR
