BEGIN:VCALENDAR
PRODID:-//AT Content Types//AT Event//EN
VERSION:2.0
METHOD:PUBLISH
BEGIN:VEVENT
DTSTAMP:20260420T203054Z
CREATED:20220315T112420Z
UID:ATEvent-f474b58c55244909a33ed7affdf3a3ff
LAST-MODIFIED:20220316T084131Z
SUMMARY:EXAM
DTSTART:20220412T090000Z
DTEND:20220412T103000Z
LOCATION:Lecture Room H
CONTACT:S. Parolai
URL:https://diploma-clear.ictp.it/courses/weekly-schedule/lecture-room-h/lecture.2022-03-15.4608728168
CLASS:PUBLIC
END:VEVENT
END:VCALENDAR
