BEGIN:VCALENDAR
PRODID:-//AT Content Types//AT Event//EN
VERSION:1.0
BEGIN:VEVENT
DTSTART:20220331T090000Z
DTEND:20220331T103000Z
DCREATED:20211223T132534Z
UID:ATEvent-b479e87298264290bcbeefdfe062cb46
SEQUENCE:0
LAST-MODIFIED:20220111T141414Z
SUMMARY:ESP-PV
LOCATION:Lecture Room H
PRIORITY:3
TRANSP:0
END:VEVENT
END:VCALENDAR
