BEGIN:VCALENDAR
PRODID:-//AT Content Types//AT Event//EN
VERSION:2.0
METHOD:PUBLISH
BEGIN:VEVENT
DTSTAMP:20260423T044213Z
CREATED:20211214T115533Z
UID:ATEvent-08e3d9d542704805a9269404e074918a
LAST-MODIFIED:20211214T115533Z
SUMMARY:ESP-PDO
DTSTART:20220404T120000Z
DTEND:20220404T133000Z
LOCATION:Lecture Room H
CONTACT:R. Farneti
URL:https://diploma-clear.ictp.it/courses/weekly-schedule/lecture-room-h/lecture.2021-12-14.9337417509
CLASS:PUBLIC
END:VEVENT
END:VCALENDAR
