BEGIN:VCALENDAR
PRODID:-//AT Content Types//AT Event//EN
VERSION:1.0
BEGIN:VEVENT
DTSTART:20220506T070000Z
DTEND:20220506T083000Z
DCREATED:20211214T115806Z
UID:ATEvent-4f214d7b2d2246c8b60310f789dfe3c4
SEQUENCE:0
LAST-MODIFIED:20211214T115806Z
SUMMARY:ESP-PDO
LOCATION:Lecture Room H
PRIORITY:3
TRANSP:0
END:VEVENT
END:VCALENDAR
