BEGIN:VCALENDAR
PRODID:-//AT Content Types//AT Event//EN
VERSION:2.0
METHOD:PUBLISH
BEGIN:VEVENT
DTSTAMP:20260422T015830Z
CREATED:20201222T105828Z
UID:ATEvent-f1bdb34b49d845b5b1f7b96c082b81ec
LAST-MODIFIED:20201222T105828Z
SUMMARY:ESP-APS
DTSTART:20210222T130000Z
DTEND:20210222T143000Z
LOCATION:Lecture Room H
CONTACT:S. Parolai
URL:https://diploma-clear.ictp.it/courses/weekly-schedule/lecture-room-h/lecture.2020-12-22.7084159526
CLASS:PUBLIC
END:VEVENT
END:VCALENDAR
