BEGIN:VCALENDAR
PRODID:-//AT Content Types//AT Event//EN
VERSION:1.0
BEGIN:VEVENT
DTSTART:20210305T130000Z
DTEND:20210305T143000Z
DCREATED:20201221T150923Z
UID:ATEvent-e3bf80e3bc4c44beb70fd0a7cb6824a0
SEQUENCE:0
LAST-MODIFIED:20201221T150923Z
SUMMARY:ESP-MET
LOCATION:Lecture Room H
PRIORITY:3
TRANSP:0
END:VEVENT
END:VCALENDAR
