BEGIN:VCALENDAR
PRODID:-//AT Content Types//AT Event//EN
VERSION:1.0
BEGIN:VEVENT
DTSTART:20210210T100000Z
DTEND:20210210T113000Z
DCREATED:20201216T142806Z
UID:ATEvent-c508bc04b7af4ddaa93990f37ebe88f4
SEQUENCE:0
LAST-MODIFIED:20201216T142806Z
SUMMARY:ESP-SEIS
LOCATION:Lecture Room H
PRIORITY:3
TRANSP:0
END:VEVENT
END:VCALENDAR
