BEGIN:VCALENDAR
PRODID:-//AT Content Types//AT Event//EN
VERSION:2.0
METHOD:PUBLISH
BEGIN:VEVENT
DTSTAMP:20260421T072319Z
CREATED:20200909T142825Z
UID:ATEvent-1e7eae7dee44436f8919ff767ecbe16b
LAST-MODIFIED:20200909T142825Z
SUMMARY:ESP-GFD
DTSTART:20201207T130000Z
DTEND:20201207T143000Z
LOCATION:Lecture Room H
CONTACT:S. Salon
URL:https://diploma-clear.ictp.it/courses/weekly-schedule/lecture-room-h/lecture.2020-09-09.7058077745
CLASS:PUBLIC
END:VEVENT
END:VCALENDAR
