BEGIN:VCALENDAR
PRODID:-//AT Content Types//AT Event//EN
VERSION:2.0
METHOD:PUBLISH
BEGIN:VEVENT
DTSTAMP:20260420T171237Z
CREATED:20200909T140805Z
UID:ATEvent-5da5f4dfed124fdcae7e570b1a501d80
LAST-MODIFIED:20200909T140805Z
SUMMARY:ESP-TPA
DTSTART:20201214T150000Z
DTEND:20201214T163000Z
LOCATION:Lecture Room H
CONTACT:A. Tompkins
URL:https://diploma-clear.ictp.it/courses/weekly-schedule/lecture-room-h/lecture.2020-09-09.4856015252
CLASS:PUBLIC
END:VEVENT
END:VCALENDAR
