BEGIN:VCALENDAR
PRODID:-//AT Content Types//AT Event//EN
VERSION:2.0
METHOD:PUBLISH
BEGIN:VEVENT
DTSTAMP:20260422T015828Z
CREATED:20200909T131415Z
UID:ATEvent-c60201a2167944ff98b6fc00a3650275
LAST-MODIFIED:20200909T131415Z
SUMMARY:ESP-WP
DTSTART:20201009T090000Z
DTEND:20201009T103000Z
LOCATION:Lecture Room H
CONTACT:L. Boschi
URL:https://diploma-clear.ictp.it/courses/weekly-schedule/lecture-room-h/lecture.2020-09-09.2552033507
CLASS:PUBLIC
END:VEVENT
END:VCALENDAR
