BEGIN:VCALENDAR
PRODID:-//AT Content Types//AT Event//EN
VERSION:2.0
METHOD:PUBLISH
BEGIN:VEVENT
DTSTAMP:20260419T171720Z
CREATED:20191118T152740Z
UID:ATEvent-986b763f186d47529afb1d39391949d2
LAST-MODIFIED:20191118T152740Z
SUMMARY:ESP-SG
DTSTART:20200113T130000Z
DTEND:20200113T143000Z
LOCATION:Lecture Room H
CONTACT:A. Borghi
URL:https://diploma-clear.ictp.it/courses/weekly-schedule/lecture-room-h/lecture.2019-11-18.8601182544
CLASS:PUBLIC
END:VEVENT
END:VCALENDAR
