BEGIN:VCALENDAR
PRODID:-//AT Content Types//AT Event//EN
VERSION:2.0
METHOD:PUBLISH
BEGIN:VEVENT
DTSTAMP:20260419T171507Z
CREATED:20191112T155113Z
UID:ATEvent-257583ea800247f9aa80115e459e80a1
LAST-MODIFIED:20191112T155113Z
SUMMARY:ESP-MET
DTSTART:20200213T130000Z
DTEND:20200213T143000Z
LOCATION:Lecture Room H
CONTACT:A. Aoudia
URL:https://diploma-clear.ictp.it/courses/weekly-schedule/lecture-room-h/lecture.2019-11-12.8732256232
CLASS:PUBLIC
END:VEVENT
END:VCALENDAR
