BEGIN:VCALENDAR
PRODID:-//AT Content Types//AT Event//EN
VERSION:2.0
METHOD:PUBLISH
BEGIN:VEVENT
DTSTAMP:20260420T190349Z
CREATED:20191112T154441Z
UID:ATEvent-be70efb065144ed3a4b8e71782916941
LAST-MODIFIED:20191112T154442Z
SUMMARY:ESP-SEIS
DTSTART:20200205T100000Z
DTEND:20200205T113000Z
LOCATION:Lecture Room H
CONTACT:F. Romanelli
URL:https://diploma-clear.ictp.it/courses/weekly-schedule/lecture-room-h/lecture.2019-11-12.4818694683
CLASS:PUBLIC
END:VEVENT
END:VCALENDAR
