BEGIN:VCALENDAR
PRODID:-//AT Content Types//AT Event//EN
VERSION:2.0
METHOD:PUBLISH
BEGIN:VEVENT
DTSTAMP:20260425T185135Z
CREATED:20191112T145320Z
UID:ATEvent-f08ec525cd6f40c4bf733507b71e4188
LAST-MODIFIED:20191112T145320Z
SUMMARY:ESP-PDO
DTSTART:20200325T080000Z
DTEND:20200325T093000Z
LOCATION:Lecture Room H
CONTACT:R. Farneti
URL:https://diploma-clear.ictp.it/courses/weekly-schedule/lecture-room-h/lecture.2019-11-12.4007598489
CLASS:PUBLIC
END:VEVENT
END:VCALENDAR
