BEGIN:VCALENDAR
PRODID:-//AT Content Types//AT Event//EN
VERSION:1.0
BEGIN:VEVENT
DTSTART:20191121T080000Z
DTEND:20191121T093000Z
DCREATED:20191011T093951Z
UID:ATEvent-a15c666f901340cb81149341d438c5ee
SEQUENCE:0
LAST-MODIFIED:20191011T093952Z
SUMMARY:ESP-TPA
LOCATION:Lecture Room H
PRIORITY:3
TRANSP:0
END:VEVENT
END:VCALENDAR
