BEGIN:VCALENDAR
PRODID:-//AT Content Types//AT Event//EN
VERSION:1.0
BEGIN:VEVENT
DTSTART:20191118T080000Z
DTEND:20191118T093000Z
DCREATED:20191011T093841Z
UID:ATEvent-d00dd25be0ac43f3a985fdd07b50054d
SEQUENCE:0
LAST-MODIFIED:20191011T093841Z
SUMMARY:ESP-TPA
LOCATION:Lecture Room H
PRIORITY:3
TRANSP:0
END:VEVENT
END:VCALENDAR
