BEGIN:VCALENDAR
PRODID:-//AT Content Types//AT Event//EN
VERSION:2.0
METHOD:PUBLISH
BEGIN:VEVENT
DTSTAMP:20260419T211346Z
CREATED:20181122T155223Z
UID:ATEvent-01ed3c9a33234f0bbe3d3f7a14ff834f
LAST-MODIFIED:20190327T134441Z
SUMMARY:ESP-OD
DTSTART:20190329T080000Z
DTEND:20190329T093000Z
LOCATION:Lecture Room H
CONTACT:R. Farneti
URL:https://diploma-clear.ictp.it/courses/weekly-schedule/lecture-room-h/lecture.2018-11-22.9434922701
CLASS:PUBLIC
END:VEVENT
END:VCALENDAR
