BEGIN:VCALENDAR
PRODID:-//AT Content Types//AT Event//EN
VERSION:1.0
BEGIN:VEVENT
DTSTART:20190131T130000Z
DTEND:20190131T143000Z
DCREATED:20181122T160237Z
UID:ATEvent-2858ec186b684900b5952b3712d6e32f
SEQUENCE:0
LAST-MODIFIED:20181214T092657Z
SUMMARY:ESP-SG
LOCATION:Lecture Room H
PRIORITY:3
TRANSP:0
END:VEVENT
END:VCALENDAR
