BEGIN:VCALENDAR
PRODID:-//AT Content Types//AT Event//EN
VERSION:1.0
BEGIN:VEVENT
DTSTART:20190301T100000Z
DTEND:20190301T113000Z
DCREATED:20181122T095442Z
UID:ATEvent-056e818151e04310827c9e432eb1c4d6
SEQUENCE:0
LAST-MODIFIED:20181122T095443Z
SUMMARY:ESP-AD
LOCATION:Lecture Room H
PRIORITY:3
TRANSP:0
END:VEVENT
END:VCALENDAR
