BEGIN:VCALENDAR
PRODID:-//AT Content Types//AT Event//EN
VERSION:2.0
METHOD:PUBLISH
BEGIN:VEVENT
DTSTAMP:20260420T230442Z
CREATED:20181122T095317Z
UID:ATEvent-19c9c5a95f0b4c628d7c87d1d2c25384
LAST-MODIFIED:20181122T095317Z
SUMMARY:ESP-PO
DTSTART:20190118T080000Z
DTEND:20190118T093000Z
LOCATION:Lecture Room H
CONTACT:M. Gacic
URL:https://diploma-clear.ictp.it/courses/weekly-schedule/lecture-room-h/lecture.2018-11-22.3972336553
CLASS:PUBLIC
END:VEVENT
END:VCALENDAR
