BEGIN:VCALENDAR
PRODID:-//AT Content Types//AT Event//EN
VERSION:1.0
BEGIN:VEVENT
DTSTART:20190123T100000Z
DTEND:20190123T113000Z
DCREATED:20181122T155832Z
UID:ATEvent-da58642abb9c4cadbf3d27743f8ab771
SEQUENCE:0
LAST-MODIFIED:20181122T155832Z
SUMMARY:ESP-SEIS
LOCATION:Lecture Room H
PRIORITY:3
TRANSP:0
END:VEVENT
END:VCALENDAR
