BEGIN:VCALENDAR
PRODID:-//AT Content Types//AT Event//EN
VERSION:2.0
METHOD:PUBLISH
BEGIN:VEVENT
DTSTAMP:20260420T035314Z
CREATED:20181122T155831Z
UID:ATEvent-e1712c71747b40aa96cec6a0f61fdad0
LAST-MODIFIED:20181122T155831Z
SUMMARY:ESP-SEIS
DTSTART:20190116T100000Z
DTEND:20190116T113000Z
LOCATION:Lecture Room H
CONTACT:R. Romanelli
URL:https://diploma-clear.ictp.it/courses/weekly-schedule/lecture-room-h/lecture.2018-11-22.3112469492
CLASS:PUBLIC
END:VEVENT
END:VCALENDAR
