BEGIN:VCALENDAR
PRODID:-//AT Content Types//AT Event//EN
VERSION:2.0
METHOD:PUBLISH
BEGIN:VEVENT
DTSTAMP:20260419T171732Z
CREATED:20180808T141924Z
UID:ATEvent-15d8fe2879864d8f8af891fa3392b1f5
LAST-MODIFIED:20180808T141924Z
SUMMARY:ESP-FD
DTSTART:20181127T080000Z
DTEND:20181127T093000Z
LOCATION:Lecture Room H
CONTACT:S. Salon
URL:https://diploma-clear.ictp.it/courses/weekly-schedule/lecture-room-h/lecture.2018-08-08.9648205616
CLASS:PUBLIC
END:VEVENT
END:VCALENDAR
