BEGIN:VCALENDAR
PRODID:-//AT Content Types//AT Event//EN
VERSION:1.0
BEGIN:VEVENT
DTSTART:20180919T140000Z
DTEND:20180919T153000Z
DCREATED:20180808T131728Z
UID:ATEvent-0cac0bcf83c841c1aff4741df2ef2c57
SEQUENCE:0
LAST-MODIFIED:20180808T131729Z
SUMMARY:ESP-EST
LOCATION:Lecture Room H
PRIORITY:3
TRANSP:0
END:VEVENT
END:VCALENDAR
