BEGIN:VCALENDAR
PRODID:-//AT Content Types//AT Event//EN
VERSION:2.0
METHOD:PUBLISH
BEGIN:VEVENT
DTSTAMP:20260422T231718Z
CREATED:20180215T110253Z
UID:ATEvent-0f5564e0920e434e82d980d7c469e5b9
LAST-MODIFIED:20180215T110316Z
SUMMARY:EXAM
DTSTART:20180220T100000Z
DTEND:20180220T113000Z
LOCATION:Lecture Room H
CONTACT:F. Romanelli
URL:https://diploma-clear.ictp.it/courses/weekly-schedule/lecture-room-h/lecture.2018-02-15.5739517255
CLASS:PUBLIC
END:VEVENT
END:VCALENDAR
