BEGIN:VCALENDAR
PRODID:-//AT Content Types//AT Event//EN
VERSION:1.0
BEGIN:VEVENT
DTSTART:20180117T080000Z
DTEND:20180117T093000Z
DCREATED:20171206T140453Z
UID:ATEvent-fb9156f4b2714683be2dc9170bf2df36
SEQUENCE:0
LAST-MODIFIED:20180112T100218Z
SUMMARY:ESP-PO
LOCATION:Lecture Room H
PRIORITY:3
TRANSP:0
END:VEVENT
END:VCALENDAR
