BEGIN:VCALENDAR
PRODID:-//AT Content Types//AT Event//EN
VERSION:2.0
METHOD:PUBLISH
BEGIN:VEVENT
DTSTAMP:20260420T190130Z
CREATED:20171108T103956Z
UID:ATEvent-5cee65a9ee0c43e49f9c22a605f28733
LAST-MODIFIED:20171108T104014Z
SUMMARY:EXAM
DTSTART:20171127T100000Z
DTEND:20171127T113000Z
LOCATION:Lecture Room H
CONTACT:C. Solidoro
URL:https://diploma-clear.ictp.it/courses/weekly-schedule/lecture-room-h/lecture.2017-11-08.5962082251
CLASS:PUBLIC
END:VEVENT
END:VCALENDAR
