BEGIN:VCALENDAR
PRODID:-//AT Content Types//AT Event//EN
VERSION:2.0
METHOD:PUBLISH
BEGIN:VEVENT
DTSTAMP:20260421T105345Z
CREATED:20170829T101823Z
UID:ATEvent-55fcae90735346f2a1401e4f79690554
LAST-MODIFIED:20171011T133530Z
SUMMARY:ESP-PA
DTSTART:20171025T120000Z
DTEND:20171025T133000Z
LOCATION:Lecture Room H
CONTACT:A. Tompkins
URL:https://diploma-clear.ictp.it/courses/weekly-schedule/lecture-room-h/lecture.2017-08-29.9039200832
CLASS:PUBLIC
END:VEVENT
END:VCALENDAR
