BEGIN:VCALENDAR
PRODID:-//AT Content Types//AT Event//EN
VERSION:1.0
BEGIN:VEVENT
DTSTART:20170914T070000Z
DTEND:20170914T083000Z
DCREATED:20170721T123523Z
UID:ATEvent-5d68d1debdb14b4cac49eeaefce9acb1
SEQUENCE:0
LAST-MODIFIED:20170721T123523Z
SUMMARY:ESP-EST
LOCATION:Lecture Room H
PRIORITY:3
TRANSP:0
END:VEVENT
END:VCALENDAR
