BEGIN:VCALENDAR
PRODID:-//AT Content Types//AT Event//EN
VERSION:1.0
BEGIN:VEVENT
DTSTART:20171005T090000Z
DTEND:20171005T103000Z
DCREATED:20170721T123414Z
UID:ATEvent-31d388df37534d5c923f8ff6643e1033
SEQUENCE:0
LAST-MODIFIED:20170721T123414Z
SUMMARY:ESP-PEG
LOCATION:Lecture Room H
PRIORITY:3
TRANSP:0
END:VEVENT
END:VCALENDAR
