BEGIN:VCALENDAR
PRODID:-//AT Content Types//AT Event//EN
VERSION:1.0
BEGIN:VEVENT
DTSTART:20170227T100000Z
DTEND:20170227T113000Z
DCREATED:20170201T141229Z
UID:ATEvent-9d502f0655f849f59fd3f6a861afb86a
SEQUENCE:0
LAST-MODIFIED:20170201T141257Z
SUMMARY:EXAM
LOCATION:Lecture Room H
PRIORITY:3
TRANSP:0
END:VEVENT
END:VCALENDAR
