BEGIN:VCALENDAR
PRODID:-//AT Content Types//AT Event//EN
VERSION:1.0
BEGIN:VEVENT
DTSTART:20170207T080000Z
DTEND:20170207T093000Z
DCREATED:20161213T150342Z
UID:ATEvent-7dd2ce08e0194ddca104a0aa090ad7e3
SEQUENCE:0
LAST-MODIFIED:20161213T150342Z
SUMMARY:ESP-GFD
LOCATION:Lecture Room H
PRIORITY:3
TRANSP:0
END:VEVENT
END:VCALENDAR
