BEGIN:VCALENDAR
PRODID:-//AT Content Types//AT Event//EN
VERSION:1.0
BEGIN:VEVENT
DTSTART:20161221T080000Z
DTEND:20161221T093000Z
DCREATED:20160808T092844Z
UID:ATEvent-c27801273fd446169af5c36b6e3b7b5c
SEQUENCE:0
LAST-MODIFIED:20160808T092844Z
SUMMARY:ESP-PO
LOCATION:Lecture Room H
PRIORITY:3
TRANSP:0
END:VEVENT
END:VCALENDAR
