BEGIN:VCALENDAR
PRODID:-//AT Content Types//AT Event//EN
VERSION:1.0
BEGIN:VEVENT
DTSTART:20161219T080000Z
DTEND:20161219T093000Z
DCREATED:20160808T092844Z
UID:ATEvent-9b2508425c304bbf816da306a4064697
SEQUENCE:0
LAST-MODIFIED:20160808T092844Z
SUMMARY:ESP-PO
LOCATION:Lecture Room H
PRIORITY:3
TRANSP:0
END:VEVENT
END:VCALENDAR
