BEGIN:VCALENDAR
PRODID:-//AT Content Types//AT Event//EN
VERSION:2.0
METHOD:PUBLISH
BEGIN:VEVENT
DTSTAMP:20260421T225954Z
CREATED:20160808T092730Z
UID:ATEvent-641651c09134411d8c30fecd70d78cc2
LAST-MODIFIED:20160808T092730Z
SUMMARY:ESP-PO
DTSTART:20161207T080000Z
DTEND:20161207T093000Z
LOCATION:Lecture Room H
CONTACT:M. Gacic
URL:https://diploma-clear.ictp.it/courses/weekly-schedule/lecture-room-h/lecture.2016-08-08.4503372164
CLASS:PUBLIC
END:VEVENT
END:VCALENDAR
