BEGIN:VCALENDAR
PRODID:-//AT Content Types//AT Event//EN
VERSION:1.0
BEGIN:VEVENT
DTSTART:20160316T130000Z
DTEND:20160316T143000Z
DCREATED:20151208T160649Z
UID:ATEvent-f440d83b5cb447dfa509690cfffabea9
SEQUENCE:0
LAST-MODIFIED:20151208T160649Z
SUMMARY:ESP-MET
LOCATION:Lecture Room H
PRIORITY:3
TRANSP:0
END:VEVENT
END:VCALENDAR
