BEGIN:VCALENDAR
PRODID:-//AT Content Types//AT Event//EN
VERSION:1.0
BEGIN:VEVENT
DTSTART:20160309T130000Z
DTEND:20160309T143000Z
DCREATED:20151208T160648Z
UID:ATEvent-91ecd66034d245f8a14024f870886be7
SEQUENCE:0
LAST-MODIFIED:20151208T160648Z
SUMMARY:ESP-MET
LOCATION:Lecture Room H
PRIORITY:3
TRANSP:0
END:VEVENT
END:VCALENDAR
