BEGIN:VCALENDAR
PRODID:-//AT Content Types//AT Event//EN
VERSION:2.0
METHOD:PUBLISH
BEGIN:VEVENT
DTSTAMP:20260423T200005Z
CREATED:20151208T145432Z
UID:ATEvent-a3717a341c5043f5a1fe0e7e74da8e66
LAST-MODIFIED:20151208T145432Z
SUMMARY:ESP-GFD
DTSTART:20160317T080000Z
DTEND:20160317T093000Z
LOCATION:Lecture Room H
CONTACT:l
URL:https://diploma-clear.ictp.it/courses/weekly-schedule/lecture-room-h/lecture.2015-12-08.4727050274
CLASS:PUBLIC
END:VEVENT
END:VCALENDAR
