BEGIN:VCALENDAR
PRODID:-//AT Content Types//AT Event//EN
VERSION:1.0
BEGIN:VEVENT
DTSTART:20160323T150000Z
DTEND:20160323T163000Z
DCREATED:20151208T152200Z
UID:ATEvent-efb35a3d86cd460d9b8fc1223b2012e3
SEQUENCE:0
LAST-MODIFIED:20151208T152200Z
SUMMARY:ESP-OCS
LOCATION:Lecture Room H
PRIORITY:3
TRANSP:0
END:VEVENT
END:VCALENDAR
