BEGIN:VCALENDAR
PRODID:-//AT Content Types//AT Event//EN
VERSION:1.0
BEGIN:VEVENT
DTSTART:20150929T070000Z
DTEND:20150929T083000Z
DCREATED:20150825T133726Z
UID:ATEvent-681f94c6a97d4b5dbcd7a7cad9aaa373
SEQUENCE:0
LAST-MODIFIED:20150825T133726Z
SUMMARY:ESP-EST
LOCATION:Lecture Room H
PRIORITY:3
TRANSP:0
END:VEVENT
END:VCALENDAR
