BEGIN:VCALENDAR
PRODID:-//AT Content Types//AT Event//EN
VERSION:2.0
METHOD:PUBLISH
BEGIN:VEVENT
DTSTAMP:20260423T225600Z
CREATED:20150825T140631Z
UID:ATEvent-2ad2d3652aca467da088c022604f1fde
LAST-MODIFIED:20151030T100629Z
SUMMARY:ESP-PSE
DTSTART:20151105T130000Z
DTEND:20151105T143000Z
LOCATION:Lecture Room H
CONTACT:A Aoudia
URL:https://diploma-clear.ictp.it/courses/weekly-schedule/lecture-room-h/lecture.2015-08-25.5911305689
CLASS:PUBLIC
END:VEVENT
END:VCALENDAR
