BEGIN:VCALENDAR
PRODID:-//AT Content Types//AT Event//EN
VERSION:2.0
METHOD:PUBLISH
BEGIN:VEVENT
DTSTAMP:20260420T144416Z
CREATED:20150825T135643Z
UID:ATEvent-1cea72fff9d441adb5e684b29cd29153
LAST-MODIFIED:20150826T132916Z
SUMMARY:ESP-PA
DTSTART:20151218T100000Z
DTEND:20151218T113000Z
LOCATION:Lecture Room H
CONTACT:A. Tompkins
URL:https://diploma-clear.ictp.it/courses/weekly-schedule/lecture-room-h/lecture.2015-08-25.0031556454
CLASS:PUBLIC
END:VEVENT
END:VCALENDAR
