BEGIN:VCALENDAR
PRODID:-//AT Content Types//AT Event//EN
VERSION:1.0
BEGIN:VEVENT
DTSTART:20151207T150000Z
DTEND:20151207T163000Z
DCREATED:20150825T135642Z
UID:ATEvent-b92fe440b35c4c918868578c8f9f1aa6
SEQUENCE:0
LAST-MODIFIED:20150825T135642Z
SUMMARY:ESP-PA
LOCATION:Lecture Room H
PRIORITY:3
TRANSP:0
END:VEVENT
END:VCALENDAR
