BEGIN:VCALENDAR
PRODID:-//AT Content Types//AT Event//EN
VERSION:2.0
METHOD:PUBLISH
BEGIN:VEVENT
DTSTAMP:20260423T040253Z
CREATED:20141126T102646Z
UID:ATEvent-90d0c28c47df4384b4961e2fe36e5645
LAST-MODIFIED:20141126T102646Z
SUMMARY:ESP-SG
DTSTART:20150211T130000Z
DTEND:20150211T143000Z
LOCATION:Lecture Room H
CONTACT:A. Borghi
URL:https://diploma-clear.ictp.it/courses/weekly-schedule/lecture-room-h/lecture.2014-11-26.6061202658
CLASS:PUBLIC
END:VEVENT
END:VCALENDAR
