BEGIN:VCALENDAR
PRODID:-//AT Content Types//AT Event//EN
VERSION:1.0
BEGIN:VEVENT
DTSTART:20150121T130000Z
DTEND:20150121T143000Z
DCREATED:20141126T102229Z
UID:ATEvent-4a1c6cb609924818a0c2a7c48a7de8f5
SEQUENCE:0
LAST-MODIFIED:20141126T102229Z
SUMMARY:ESP-SG
LOCATION:Lecture Room H
PRIORITY:3
TRANSP:0
END:VEVENT
END:VCALENDAR
