BEGIN:VCALENDAR
PRODID:-//AT Content Types//AT Event//EN
VERSION:1.0
BEGIN:VEVENT
DTSTART:20150320T100000Z
DTEND:20150320T113000Z
DCREATED:20141126T100509Z
UID:ATEvent-e439d917759b4e84ae34ea9d9b99c5b5
SEQUENCE:0
LAST-MODIFIED:20141126T100509Z
SUMMARY:ESP-AD
LOCATION:Lecture Room H
PRIORITY:3
TRANSP:0
END:VEVENT
END:VCALENDAR
