BEGIN:VCALENDAR
PRODID:-//AT Content Types//AT Event//EN
VERSION:2.0
METHOD:PUBLISH
BEGIN:VEVENT
DTSTAMP:20260420T035249Z
CREATED:20141126T100508Z
UID:ATEvent-32ecb40febb94cbdaebaab446d5579a5
LAST-MODIFIED:20141126T100508Z
SUMMARY:ESP-AD
DTSTART:20150311T100000Z
DTEND:20150311T113000Z
LOCATION:Lecture Room H
CONTACT:F. Kucharski
URL:https://diploma-clear.ictp.it/courses/weekly-schedule/lecture-room-h/lecture.2014-11-26.3085906127
CLASS:PUBLIC
END:VEVENT
END:VCALENDAR
