BEGIN:VCALENDAR
PRODID:-//AT Content Types//AT Event//EN
VERSION:1.0
BEGIN:VEVENT
DTSTART:20150309T130000Z
DTEND:20150309T143000Z
DCREATED:20141126T103646Z
UID:ATEvent-d1776b2151f64d909e21c572f6e7208e
SEQUENCE:0
LAST-MODIFIED:20141126T103646Z
SUMMARY:ESP-MET
LOCATION:Lecture Room H
PRIORITY:3
TRANSP:0
END:VEVENT
END:VCALENDAR
